BEGIN:VCALENDAR
PRODID:-//eluceo/ical//2.0/EN
VERSION:2.0
CALSCALE:GREGORIAN
BEGIN:VEVENT
UID:8400caa594354564a5eb00094a8c35bc
DTSTAMP:20260419T213245Z
SUMMARY:Toronto Jewish Film Society Presents (March)
DESCRIPTION:UJA Federation of Greater Toronto\nJewish Toronto Calendar\nhtt
 ps://jewishtoronto.com/calendar/toronto-jewish-film-society-presents-march
 \n\nToronto Jewish Film Society presents\nTinghir - Jerusalem: Echoes From
  the Mellah\n(France / Morocco\, 2013\, Kamal Hachkar director\, 86 minute
 s)\nCurious about the Jewish Berbers who used to live in his Moroccan vill
 age\, and wondering why they left\, historian and filmmaker Kamal Hachkar 
 heads off to Israel and Morocco to solve the mystery. A fascinating examin
 ation of a little known facet of Jewish history\, Tinghir - Jerusalem will
  astound you.\nGuest Speaker: Yigal S. Nizri\nSunday  March 29...
DTSTART;TZID=America/Toronto:20150329T160000
DTEND;TZID=America/Toronto:20150329T193000
END:VEVENT
END:VCALENDAR
