BEGIN:VCALENDAR
PRODID:-//eluceo/ical//2.0/EN
VERSION:2.0
CALSCALE:GREGORIAN
BEGIN:VEVENT
UID:e43514386391bf50d5de0af7783108a7
DTSTAMP:20260420T101901Z
SUMMARY:Toronto Jewish Film Society: Hanna's Journey
DESCRIPTION:UJA Federation of Greater Toronto\nJewish Toronto Calendar\nhtt
 ps://jewishtoronto.com/calendar/toronto-jewish-film-society-hannas-journey
 -1515098255\n\nHanna\, an ambitious Berliner\, travels to Israel to advanc
 e her career\, confiding to her fiancé that “helping Jews scores points
 .” Her cynicism is shortlived\, as sparks fly in this charming romantic 
 comedy.\nIn the Al Green Theatre in the Miles Nadal JCC\n2 screenings: 4:0
 0 pm & 7:30 pm\n4:00 pm rush only at the door 30 min. before screen time.\
 n7:30 pm advance on-line tickets available on Eventbrite\n$15 or $10 (ages
  18- 35)\n
DTSTART;TZID=America/Toronto:20180408T160000
DTEND;TZID=America/Toronto:20180408T220000
END:VEVENT
END:VCALENDAR
