BEGIN:VCALENDAR
PRODID:-//eluceo/ical//2.0/EN
VERSION:2.0
CALSCALE:GREGORIAN
BEGIN:VEVENT
UID:4abd4787c428787ba7120c58d8d5897d
DTSTAMP:20260421T170409Z
SUMMARY:Toronto Jewish Film Foundation Patron Circle Screening
DESCRIPTION:UJA Federation of Greater Toronto\nJewish Toronto Calendar\nhtt
 ps://jewishtoronto.com/calendar/toronto-jewish-film-foundation-patron-circ
 le-screening-1676573785\n\nIS THIS OK?\n\n\nPLEASE NOTE: TIMING IS TBC
DTSTART;TZID=America/Toronto:20230416T150000
DTEND;TZID=America/Toronto:20230416T173000
END:VEVENT
END:VCALENDAR
