BEGIN:VCALENDAR
PRODID:-//eluceo/ical//2.0/EN
VERSION:2.0
CALSCALE:GREGORIAN
BEGIN:VEVENT
UID:28db2dd5c2feb04dee534067398b7c56
DTSTAMP:20260424T132642Z
SUMMARY:Toronto Jewish Film Festival 2014 May 1-11th
DESCRIPTION:UJA Federation of Greater Toronto\nJewish Toronto Calendar\nhtt
 ps://jewishtoronto.com/calendar/toronto-jewish-film-festival-2014-may-1-11
 th\n\nToronto Jewish Film Festival
DTSTART;TZID=America/Toronto:20140501T000000
DTEND;TZID=America/Toronto:20140511T235500
END:VEVENT
END:VCALENDAR
