BEGIN:VCALENDAR
PRODID:-//eluceo/ical//2.0/EN
VERSION:2.0
CALSCALE:GREGORIAN
BEGIN:VEVENT
UID:dd9da95f4e9adcdf7a63719378d7a877
DTSTAMP:20260419T200702Z
SUMMARY:TJFF - Toronto Jewish Film Festival
DESCRIPTION:UJA Federation of Greater Toronto\nJewish Toronto Calendar\nhtt
 ps://jewishtoronto.com/calendar/toronto-jewish-film-festival\n\nMore infor
 mation to follow 
DTSTART;TZID=America/Toronto:20210603T000000
DTEND;TZID=America/Toronto:20210613T235959
END:VEVENT
END:VCALENDAR
