BEGIN:VCALENDAR
PRODID:-//eluceo/ical//2.0/EN
VERSION:2.0
CALSCALE:GREGORIAN
BEGIN:VEVENT
UID:647d3c754bd2972180a9547e00a25313
DTSTAMP:20260420T144347Z
SUMMARY:Toronto Jewish Comedy Festival Presents: Funny Jews
DESCRIPTION:UJA Federation of Greater Toronto\nJewish Toronto Calendar\nhtt
 ps://jewishtoronto.com/calendar/toronto-jewish-comedy-festival-presents-fu
 nny-jews-1739887897\n\nGet ready to laugh till your matzo ball soup comes 
 out your nose! 'Funny Jews' is a hilarious stand-up comedy show that bring
 s together the brightest and funniest Jewish comedians for a night of side
 -splitting humour\, kvetching\, and a little guilt.\n\nHosted by: Ronen Ge
 isler\nFeaturing: Allan Fuks\, David Goodman\, Special Surprise Guest\nHea
 dliner: Kate Davis \n\nOy vey\, you won't want to miss this meshuggeneh li
 neup!\nGet your Tickets before they sell out!
DTSTART;TZID=America/Toronto:20250406T190000
DTEND;TZID=America/Toronto:20250406T203000
END:VEVENT
END:VCALENDAR
