BEGIN:VCALENDAR
PRODID:-//eluceo/ical//2.0/EN
VERSION:2.0
CALSCALE:GREGORIAN
BEGIN:VEVENT
UID:f3cdabc65f42e0d7cee2deec64c12a99
DTSTAMP:20260422T022502Z
SUMMARY:Toronto-Israeli Tech Club Launch Event
DESCRIPTION:UJA Federation of Greater Toronto\nJewish Toronto Calendar\nhtt
 ps://jewishtoronto.com/calendar/toronto-israeli-tech-club-launch-event-151
 5771681\n\nHello! We are a new meetup designed to bring together Israelis 
 living in Toronto who are involved in high-tech or who are interested in j
 oining the world of high-tech.\n\nWe are having our launch event on Monday
  February 12 from 6:00pm to 9:00pm at Fasken Martineau at 333 Bay Street\,
  Suite 2400.\n\nThe theme of our launch will be around the topic of blockc
 hain technology and it’s implications.\n\nWe are bringing in speakers to
  discuss blockchain technology and will allocate time for network...
DTSTART;TZID=America/Toronto:20180212T180000
DTEND;TZID=America/Toronto:20180212T210000
END:VEVENT
END:VCALENDAR
