BEGIN:VCALENDAR
PRODID:-//eluceo/ical//2.0/EN
VERSION:2.0
CALSCALE:GREGORIAN
BEGIN:VEVENT
UID:a5c7c1a6eaa6f13129784b361744570c
DTSTAMP:20260422T193955Z
SUMMARY:Toronto Garlic Festival
DESCRIPTION:UJA Federation of Greater Toronto\nJewish Toronto Calendar\nhtt
 ps://jewishtoronto.com/calendar/toronto-garlic-festival\n\nToronto Garlic 
 Festival. Come for Ontario garlic\, stay for delicious garlic-inspired dis
 hes by local chefs! Pair meals with craft beer or wine and engage in talks
 \, demos\, film screening and contests. Chefs' dishes\, fresh garlic and v
 endor products are for sale. Over 60 Farmers and Local Chefs and Artisans 
 ADMISSION PRICE: $5 - available at the door or in advance: https://www.eve
 ntbrite.ca/e/toronto-garlic-festival-tickets-9380185387 Take free shuttle 
 from the parkette beside Broadview Subway ...
DTSTART;TZID=America/Toronto:20140921T090000
DTEND;TZID=America/Toronto:20140921T170000
END:VEVENT
END:VCALENDAR
