BEGIN:VCALENDAR
PRODID:-//eluceo/ical//2.0/EN
VERSION:2.0
CALSCALE:GREGORIAN
BEGIN:VEVENT
UID:28381387b9c02520cd23927768fefb22
DTSTAMP:20260421T080725Z
SUMMARY:Toronto Freedom Lodge\, B'nai Brith 50th Anniversary
DESCRIPTION:UJA Federation of Greater Toronto\nJewish Toronto Calendar\nhtt
 ps://jewishtoronto.com/calendar/toronto-freedom-lodge-bnai-brith-50th-anni
 versary-1488224903\n\nToronto Freedom Lodge\, B'nai Brith 50th Anniversary
DTSTART;TZID=America/Toronto:20171028T190000
DTEND;TZID=America/Toronto:20171028T230000
END:VEVENT
END:VCALENDAR
