BEGIN:VCALENDAR
PRODID:-//eluceo/ical//2.0/EN
VERSION:2.0
CALSCALE:GREGORIAN
BEGIN:VEVENT
UID:9fce554a87d3cd1b07a23639aec83f52
DTSTAMP:20260423T173109Z
SUMMARY:Torah Through the Ages with Rabbi Fryer Bodzin
DESCRIPTION:UJA Federation of Greater Toronto\nJewish Toronto Calendar\nhtt
 ps://jewishtoronto.com/calendar/torah-through-the-ages-with-rabbi-fryer-bo
 dzin-1744301263\n\nRabbi Fryer Bodzin leads an in-depth look at the book o
 f Deuteronomy/Sefer Devarim with traditional and modern commentaries. Havi
 ng an Etz Chaim chumash on hand will be beneficial\; other materials will 
 be provided. \n\nThis learning series will be provided for in-person parti
 cipation only at Beth Tzedec (1700 Bathurst Street). Pre-registration is r
 equired. To register\, visit https://bit.ly/torah-through-ages-2024.\n\nPr
 esented as part of\nThe Institute for Jewish Learning in memory of Anne...
DTSTART;TZID=America/Toronto:20250424T100000
DTEND;TZID=America/Toronto:20250424T110000
END:VEVENT
END:VCALENDAR
