BEGIN:VCALENDAR
PRODID:-//eluceo/ical//2.0/EN
VERSION:2.0
CALSCALE:GREGORIAN
BEGIN:VEVENT
UID:c39ac246a9ebc1e5912557d4033a2400
DTSTAMP:20260422T113337Z
SUMMARY:Torah Through the Ages with Rabbi Fryer Bodzin
DESCRIPTION:UJA Federation of Greater Toronto\nJewish Toronto Calendar\nhtt
 ps://jewishtoronto.com/calendar/torah-through-the-ages-with-rabbi-fryer-bo
 dzin-1696455782\n\nRabbi Fryer Bodzin leads an in-depth look at the book o
 f Deuteronomy/Sefer Devarim with traditional and modern commentaries. Havi
 ng an Etz Chaim ẖumash on hand will be beneficial\; other materials will
  be provided. \n\nThis learning series will be provided via Zoom. Pre-regi
 stration is required to access the Zoom link. To register\, visit https://
 bit.ly/torah-through-ages-2023.
DTSTART;TZID=America/Toronto:20231026T100000
DTEND;TZID=America/Toronto:20231026T110000
END:VEVENT
END:VCALENDAR
