BEGIN:VCALENDAR
PRODID:-//eluceo/ical//2.0/EN
VERSION:2.0
CALSCALE:GREGORIAN
BEGIN:VEVENT
UID:c6648d44148f41f2f231d7bba2e5dec9
DTSTAMP:20260422T061126Z
SUMMARY:Torah Through Female Eyes with Loretta Tanenbaum
DESCRIPTION:UJA Federation of Greater Toronto\nJewish Toronto Calendar\nhtt
 ps://jewishtoronto.com/calendar/torah-through-female-eyes-with-loretta-tan
 enbaum-1518473603\n\nTorah Through Female Eyes with Loretta Tanenbaum\nA f
 our part series of Torah selections in Hebrew and English from a woman's p
 erspective. Men and women welcome.\nTuesdays\, March 6\, 13\, 20 & 27 from
  10:30 am to noon\n\nJewish Values from Torah and Beyond\nExploring the or
 igin of Jewish values--how they developed and their impact.\nCost: $45 Bet
 h Tzedec members\; $60 non-members.\n 
DTSTART;TZID=America/Toronto:20180306T103000
DTEND;TZID=America/Toronto:20180306T120000
END:VEVENT
END:VCALENDAR
