BEGIN:VCALENDAR
PRODID:-//eluceo/ical//2.0/EN
VERSION:2.0
CALSCALE:GREGORIAN
BEGIN:VEVENT
UID:0868293045b16b0125eaf5efff2192c8
DTSTAMP:20260419T220939Z
SUMMARY:Torah Through a Mindfulness Lens with Aviva Chernick
DESCRIPTION:UJA Federation of Greater Toronto\nJewish Toronto Calendar\nhtt
 ps://jewishtoronto.com/calendar/torah-through-a-mindfulness-lens-with-aviv
 a-chernick-1736799779\n\nJoin Aviva Chernick for this meditation series en
 gaging with the weekly Torah portion as a source of inspiration. We will a
 pproach the Torah portions through a mindfulness lens\, discovering how To
 rah can be a teacher for us\, guiding us towards open hearted and awakened
  living. \n\nThis is an introductory meditation course and all levels of e
 xperience in both meditation and Torah are welcome. You can sign up for on
 e\, two or all three at the same time. Please only sign up if you are plan
 ning...
DTSTART;TZID=America/Toronto:20250119T150000
DTEND;TZID=America/Toronto:20250119T161500
END:VEVENT
END:VCALENDAR
