BEGIN:VCALENDAR
PRODID:-//eluceo/ical//2.0/EN
VERSION:2.0
CALSCALE:GREGORIAN
BEGIN:VEVENT
UID:285b18b33a2120474c4c8ff09868b6e3
DTSTAMP:20260419T213139Z
SUMMARY:Torah Dedication at Beth Sholom
DESCRIPTION:UJA Federation of Greater Toronto\nJewish Toronto Calendar\nhtt
 ps://jewishtoronto.com/calendar/torah-dedication-at-beth-sholom\n\nSave th
 e date for the extremely special Shabbat morning where we will be bringing
  our new Torah into the community.
DTSTART;TZID=America/Toronto:20140607T084500
DTEND;TZID=America/Toronto:20140607T130000
END:VEVENT
END:VCALENDAR
