BEGIN:VCALENDAR
PRODID:-//eluceo/ical//2.0/EN
VERSION:2.0
CALSCALE:GREGORIAN
BEGIN:VEVENT
UID:57ae64969871e2b05886386cf891b0c4
DTSTAMP:20260422T092100Z
SUMMARY:Torah and Tree Pose with Marcee Bar-Isaac and Rabbi Fryer Bodzin
DESCRIPTION:UJA Federation of Greater Toronto\nJewish Toronto Calendar\nhtt
 ps://jewishtoronto.com/calendar/torah-and-tree-pose-with-marcee-bar-isaac-
 and-rabbi-fryer-bodzin-1697733434\n\nMind. Body. Spirituality.\n\nJoin Mar
 cee Bar-Isaac and Rabbi Fryer Bodzin for a brief Torah text study followed
  by yoga and moments of mindfulness and meditation. Please bring your own 
 yoga mat and water.\n\nNo charge\; pre-registration is requested via https
 ://bethtzedectoronto.shulcloud.com/form/torah-and-tree-pose.html.
DTSTART;TZID=America/Toronto:20231101T194500
DTEND;TZID=America/Toronto:20231101T204500
END:VEVENT
END:VCALENDAR
