BEGIN:VCALENDAR
PRODID:-//eluceo/ical//2.0/EN
VERSION:2.0
CALSCALE:GREGORIAN
BEGIN:VEVENT
UID:22dd675bffb5f151a3ff25a9db66aa72
DTSTAMP:20260422T081603Z
SUMMARY:Torah and Tree Pose
DESCRIPTION:UJA Federation of Greater Toronto\nJewish Toronto Calendar\nhtt
 ps://jewishtoronto.com/calendar/torah-and-tree-pose-1760720407\n\nA monthl
 y mindfulness and meditation series.\n\nJoin Marcee Bar-Isaac and Rabbi Fr
 yer Bodzin at Beth Tzedec for a brief Torah text study followed by yoga an
 d moments of mindfulness and meditation.  Please bring your own yoga mat a
 nd water.\n\nThere is no charge but pre-registration is required. To regis
 ter\, visit https://bit.ly/tree-pose-2025.\n\nUpcoming Sessions: January 2
 8\, February 25\, March 25\, April 29 and May 27.
DTSTART;TZID=America/Toronto:20251217T200000
DTEND;TZID=America/Toronto:20251217T210000
END:VEVENT
END:VCALENDAR
