BEGIN:VCALENDAR
PRODID:-//eluceo/ical//2.0/EN
VERSION:2.0
CALSCALE:GREGORIAN
BEGIN:VEVENT
UID:c48eb14bf64e48d3cb7b6d7a830d83c1
DTSTAMP:20260422T232445Z
SUMMARY:Torah and Tree Pose
DESCRIPTION:UJA Federation of Greater Toronto\nJewish Toronto Calendar\nhtt
 ps://jewishtoronto.com/calendar/torah-and-tree-pose-1760720286\n\nA monthl
 y mindfulness and meditation series.\n\nJoin Marcee Bar-Isaac and Rabbi Fr
 yer Bodzin at Beth Tzedec for a brief Torah text study followed by yoga an
 d moments of mindfulness and meditation.  Please bring your own yoga mat a
 nd water.\n\nThere is no charge but pre-registration is required. To regis
 ter\, visit https://bit.ly/tree-pose-2025.\n\nUpcoming Sessions: December 
 17\, January 28\, February 25\, March 25\, April 29 and May 27.
DTSTART;TZID=America/Toronto:20251126T200000
DTEND;TZID=America/Toronto:20251126T210000
END:VEVENT
END:VCALENDAR
