BEGIN:VCALENDAR
PRODID:-//eluceo/ical//2.0/EN
VERSION:2.0
CALSCALE:GREGORIAN
BEGIN:VEVENT
UID:2402c136a2b5d3648f26771b771746bd
DTSTAMP:20260423T020548Z
SUMMARY:Torah and Tree Pose
DESCRIPTION:UJA Federation of Greater Toronto\nJewish Toronto Calendar\nhtt
 ps://jewishtoronto.com/calendar/torah-and-tree-pose-1736800953\n\nJoin Mar
 cee Bar-Isaac and Rabbi Fryer Bodzin for a brief Torah text study followed
  by yoga and moments of mindfulness and meditation. Please bring your own 
 yoga mat and water.\n\nThere is no charge but pre-registration is requeste
 d. To register\, visit https://bit.ly/torah-tree-pose-2024.\n\nUpcoming Se
 ssions\nJanuary 29\, February 26\, March 26\, May 7 and May 28
DTSTART;TZID=America/Toronto:20250129T200000
DTEND;TZID=America/Toronto:20250129T211500
END:VEVENT
END:VCALENDAR
