BEGIN:VCALENDAR
PRODID:-//eluceo/ical//2.0/EN
VERSION:2.0
CALSCALE:GREGORIAN
BEGIN:VEVENT
UID:160441444fc59a27724c6389546e6f40
DTSTAMP:20260425T214243Z
SUMMARY:Topsy Turvy Purim Carnival
DESCRIPTION:UJA Federation of Greater Toronto\nJewish Toronto Calendar\nhtt
 ps://jewishtoronto.com/calendar/topsy-turvy-purim-carnival\n\nKosher lunch
  and Hamentashen included!Costumes\, bouncy castle\, face painting\, dance
  party\, prizes\, crafts\, games and more! $15 Per Family (up to 5 people)
DTSTART;TZID=America/Toronto:20140302T100000
DTEND;TZID=America/Toronto:20140302T140000
END:VEVENT
END:VCALENDAR
