BEGIN:VCALENDAR
PRODID:-//eluceo/ical//2.0/EN
VERSION:2.0
CALSCALE:GREGORIAN
BEGIN:VEVENT
UID:bf9632e11943a4b48e03e425fd4b4403
DTSTAMP:20260420T083318Z
SUMMARY:Top Top Pair Poker Tourney
DESCRIPTION:UJA Federation of Greater Toronto\nJewish Toronto Calendar\nhtt
 ps://jewishtoronto.com/calendar/top-top-pair-poker-tourney-1485365348\n\nP
 oker Tournament 
DTSTART;TZID=America/Toronto:20170128T200000
DTEND;TZID=America/Toronto:20170128T235500
END:VEVENT
END:VCALENDAR
