BEGIN:VCALENDAR
PRODID:-//eluceo/ical//2.0/EN
VERSION:2.0
CALSCALE:GREGORIAN
BEGIN:VEVENT
UID:cf704b0101d030e3b90fcdcd991d940c
DTSTAMP:20260421T164730Z
SUMMARY:Today's Voices with Rabbi Dolgin
DESCRIPTION:UJA Federation of Greater Toronto\nJewish Toronto Calendar\nhtt
 ps://jewishtoronto.com/calendar/todays-voices-with-rabbi-dolgin-1758215104
 \n\nCan we count on the Legal system to fight anti-semitism?\n\n This past
  year has seen a massive increase again in antisemitic events in our socie
 ty. Who can we count on to join us in fighting antisemitism? Do we have th
 e tools we need in this essential battle?\n\nJoin us as we discuss these c
 rucial topics on our holiest day with Rochelle Direnfeld\, Senior Criminal
  Counsel & Chair of the Criminal Law Committee for the Alliance of Canadia
 ns Combating Antisemitism. \n\nRegister to Join Us...
DTSTART;TZID=America/Toronto:20251002T140000
DTEND;TZID=America/Toronto:20251003T150000
END:VEVENT
END:VCALENDAR
