BEGIN:VCALENDAR
PRODID:-//eluceo/ical//2.0/EN
VERSION:2.0
CALSCALE:GREGORIAN
BEGIN:VEVENT
UID:9ac6a1f0180e34dee469acd92b617ef4
DTSTAMP:20260422T083148Z
SUMMARY:To Kill a Mockingbird at the Stratford Festival Theatre
DESCRIPTION:UJA Federation of Greater Toronto\nJewish Toronto Calendar\nhtt
 ps://jewishtoronto.com/calendar/to-kill-a-mockingbird-at-the-stratford-fes
 tival-theatre-1522269729\n\nA Temple Sinai Program: To Kill a Mockingbird 
 at the Stratford Festival Theatre\n\nBased on at the Pulitzer Prize winnin
 g novel by Harper Lee and dramatized by Christopher Sergel. Time: 9:15 a.m
 . (Bus leaves from Temple Sinai\, (210 Wilson Avenue) Cost: Members: $100\
 ; Guests: $105 (Optional lunch add $25). For more information and to regis
 ter\, please call the Temple Office at 416-487-4161 or email programs@temp
 lesinai.net by Wednesday\, April 25 at noon.
DTSTART;TZID=America/Toronto:20180619T091500
DTEND;TZID=America/Toronto:20180619T180000
END:VEVENT
END:VCALENDAR
