BEGIN:VCALENDAR
PRODID:-//eluceo/ical//2.0/EN
VERSION:2.0
CALSCALE:GREGORIAN
BEGIN:VEVENT
UID:633b3790e2f1e1c1f2f9cc877e216275
DTSTAMP:20260423T160710Z
SUMMARY:TJFF@Fox Theatre: Mr. and Mrs. Adelman
DESCRIPTION:UJA Federation of Greater Toronto\nJewish Toronto Calendar\nhtt
 ps://jewishtoronto.com/calendar/tjfffox-theatre-mr-and-mrs-adelman-1551799
 239\n\nFor forty years of married life\, Sarah has been the proverbial wom
 an behind the great man\, famous author Victor Adelman. After his untimely
  death\, Sarah emerges from the shadows to give her perspective on her cel
 ebrated partner to a journalist looking to do an exposé on the man behind
  his public persona. Director Nicolas Bedos and his real-life partner\, Do
 ria Tillier\, co-wrote and co-star as the Adelman couple\, adding a layer 
 of authenticity to the depiction of a decades-long marriage\, with ...
DTSTART;TZID=America/Toronto:20190411T190000
DTEND;TZID=America/Toronto:20190411T210000
END:VEVENT
END:VCALENDAR
