BEGIN:VCALENDAR
PRODID:-//eluceo/ical//2.0/EN
VERSION:2.0
CALSCALE:GREGORIAN
BEGIN:VEVENT
UID:0be3153a19d2948e67ff1ce0a002c2d2
DTSTAMP:20260421T073230Z
SUMMARY:TJFF Special High Holiday Screening: "My Father\, My Lord"
DESCRIPTION:UJA Federation of Greater Toronto\nJewish Toronto Calendar\nhtt
 ps://jewishtoronto.com/calendar/tjff-special-high-holiday-screening-my-fat
 her-my-lord-1473880203\n\nIsrael 2007\, 72 min\nDirector: David Volach\n\n
 Hebrew with English subtitles\n\nA modern interpretation of the story of A
 braham and Isaac tracing the struggles of one Israeli family. With a rigid
  adherence to religious tenets\, a rabbi leads a life completely devoted t
 o God\, until family tragedy forces him to re-evaluate his beliefs against
  the well-being of his family. “Heartbreakingly tender\,” (The New Yor
 k Times) My Father\,My Lord is a visually-stunning allegory that also feat
 ures a mes...
DTSTART;TZID=America/Toronto:20161005T190000
DTEND;TZID=America/Toronto:20161005T213000
END:VEVENT
END:VCALENDAR
