BEGIN:VCALENDAR
PRODID:-//eluceo/ical//2.0/EN
VERSION:2.0
CALSCALE:GREGORIAN
BEGIN:VEVENT
UID:2c3c71e92c74b80c958189ff0de4054b
DTSTAMP:20260422T050749Z
SUMMARY:TJFF presents 'Shtisel: The Complete 2nd Season' in 3 Parts
DESCRIPTION:UJA Federation of Greater Toronto\nJewish Toronto Calendar\nhtt
 ps://jewishtoronto.com/calendar/tjff-presents-shtisel-the-complete-2nd-sea
 son-in-3-parts\n\nThe long-anticipated whole second season of Shtisel ha
 s arrived! Shulem (Dov Glickman) and Akiva (Michael Aloni) return as
  the unlucky-in-love father and son duo who work and live together in Jeru
 salem’s Mea She’arim. Joining the cast is the incomparable Sasson G
 abai as Shulem’s younger brother who returns to Israel\, bringing his
  daughter Libi (played by Fill the Void and Felix and Meira’s Hadas
  Yaron). Their arrival upsets the status quo in the Shtisel household .
 ..
DTSTART;TZID=America/Toronto:20161127T140000
DTEND;TZID=America/Toronto:20161127T160000
END:VEVENT
END:VCALENDAR
