BEGIN:VCALENDAR
PRODID:-//eluceo/ical//2.0/EN
VERSION:2.0
CALSCALE:GREGORIAN
BEGIN:VEVENT
UID:d1b9e97c8a4161b5aa408dde35566a57
DTSTAMP:20260422T095639Z
SUMMARY:TJFF presents Shtisel Season 3: The First Three Episodes
DESCRIPTION:UJA Federation of Greater Toronto\nJewish Toronto Calendar\nhtt
 ps://jewishtoronto.com/calendar/tjff-presents-shtisel-season-3-the-first-t
 hree-episodes-1614523007\n\nShtiselmania is back\, and TJFF and The Montre
 al Israeli Film Festival are thrilled to present a sneak peak at the long-
 awaited third season! The beloved Shtisel family returns four years after 
 we last saw them\; Akiva (Michael Aloni) is now a father and a thriving ar
 tist. Giti Weiss (Neta Riskin) and her husband Lippe (Zohar Strauss) run a
  successful neighborhood restaurant and are dealing with their grown child
 ren. Ruchami (Shira Haas) is learning to adjust to married life and the ch
 allenges ...
DTSTART;TZID=America/Toronto:20210310T000500
DTEND;TZID=America/Toronto:20210314T235500
END:VEVENT
END:VCALENDAR
