BEGIN:VCALENDAR
PRODID:-//eluceo/ical//2.0/EN
VERSION:2.0
CALSCALE:GREGORIAN
BEGIN:VEVENT
UID:3e99ada112237178c6a670c90c79fb9b
DTSTAMP:20260423T212024Z
SUMMARY:TJFF presents: Persian Lessons
DESCRIPTION:UJA Federation of Greater Toronto\nJewish Toronto Calendar\nhtt
 ps://jewishtoronto.com/calendar/tjff-presents-persian-lessons-1647636294\n
 \n"Hugely compelling\, highly original" - Daily MailA hit on the internati
 onal film circuit\, including the Berlin Film Festival\, Persian Lessons i
 s a unique and spellbinding drama by Ukrainian Jewish director Vadim Perel
 man (The House of Sand and Fog). Gilles\, a young Jewish Belgian man\, is 
 arrested in 1942 by the SS and sent to a concentration camp in Germany. He
  narrowly avoids execution by swearing to the guards that he is not Jewish
 \, but Persian. This lie leads Gilles to a seemingly untenabl...
DTSTART;TZID=America/Toronto:20220410T140000
DTEND;TZID=America/Toronto:20220410T160000
END:VEVENT
END:VCALENDAR
