BEGIN:VCALENDAR
PRODID:-//eluceo/ical//2.0/EN
VERSION:2.0
CALSCALE:GREGORIAN
BEGIN:VEVENT
UID:94a387d621fe7ff6117c3c0d182aad43
DTSTAMP:20260422T124231Z
SUMMARY:TJFF High Holiday Screening Event: A Cantor's Head
DESCRIPTION:UJA Federation of Greater Toronto\nJewish Toronto Calendar\nhtt
 ps://jewishtoronto.com/calendar/tjff-high-holiday-screening-event-a-cantor
 s-head-1599048378\n\nTo honour the Days of Awe between Rosh Hashanah and Y
 om Kippur\, TJFF is proud to offer a special online screening and discussi
 on for the Toronto Premiere of 'A Cantor’s Head'Available to view Tuesda
 y\, September 22 - Thursday\, September 24Dubbed the “Michael Jordan of 
 Hazzanut”\, Cantor Jacob Mendelson is suddenly let go by the Temple wher
 e he has served for 28 years. As he prepares for his final Yom Kippur serv
 ices\, he ponders the decline of traditional Jewish sacred music amidst gr
 owing...
DTSTART;TZID=America/Toronto:20200922T000100
DTEND;TZID=America/Toronto:20200924T235900
END:VEVENT
END:VCALENDAR
