BEGIN:VCALENDAR
PRODID:-//eluceo/ical//2.0/EN
VERSION:2.0
CALSCALE:GREGORIAN
BEGIN:VEVENT
UID:002382e19797ab655742cb65bbf1643d
DTSTAMP:20260420T092836Z
SUMMARY:Tisha B'Av at Beth Tikvah Synagogue
DESCRIPTION:UJA Federation of Greater Toronto\nJewish Toronto Calendar\nhtt
 ps://jewishtoronto.com/calendar/tisha-bav-at-beth-tikvah-synagogue-1500389
 298\n\nTisha B'Av at Beth Tikvah\n\nErev Tisha B’Av is Monday\, July 31\
 n\nMinha/Ma’ariv/Megillat Eikhah at 8:30 pm\n\nFast Begins at 8:41 pm\n\
 nTisha B’Av is Tuesday\, August 1\n\nShaharit and Kinot at 7:00 am\nStud
 y Session at 7:00 pm\nMinha/Ma’ariv at 8:10 pm\n\nFast Ends at 9:13 pm\n
 Note that on Tisha B’Av Tallit and Tefillin are worn at Minha and not at
  Shaharit\n\nStudy Session with Rabbi Sachs\nTuesday\, August 1 at 7:00 pm
 \n\nBroken and Whole: Remembering Yesterday and Living for Tomo...
DTSTART;TZID=America/Toronto:20170731T203000
DTEND;TZID=America/Toronto:20170801T201000
END:VEVENT
END:VCALENDAR
