BEGIN:VCALENDAR
PRODID:-//eluceo/ical//2.0/EN
VERSION:2.0
CALSCALE:GREGORIAN
BEGIN:VEVENT
UID:2c7d0c6b8ecca397ceb1aeb8bf465ebb
DTSTAMP:20260420T111134Z
SUMMARY:Tish'a B'av
DESCRIPTION:UJA Federation of Greater Toronto\nJewish Toronto Calendar\nhtt
 ps://jewishtoronto.com/calendar/tisha-bav\n\nTish'a B'av
DTSTART;TZID=America/Toronto:20150726T000000
DTEND;TZID=America/Toronto:20150727T235900
END:VEVENT
END:VCALENDAR
