BEGIN:VCALENDAR
PRODID:-//eluceo/ical//2.0/EN
VERSION:2.0
CALSCALE:GREGORIAN
BEGIN:VEVENT
UID:dcda6c40f498a55690cf86d2010f7962
DTSTAMP:20260421T113135Z
SUMMARY:TIME TO MOBILIZE with DAHLIA KURTZ
DESCRIPTION:UJA Federation of Greater Toronto\nJewish Toronto Calendar\nhtt
 ps://jewishtoronto.com/calendar/time-to-mobilize-with-dahlia-kurtz-1731341
 802\n\nI have a plan to finally mobilize the community ... our leaders hav
 e failed us. We will not fail us.
DTSTART;TZID=America/Toronto:20241209T193000
DTEND;TZID=America/Toronto:20241209T213000
END:VEVENT
END:VCALENDAR
