BEGIN:VCALENDAR
PRODID:-//eluceo/ical//2.0/EN
VERSION:2.0
CALSCALE:GREGORIAN
BEGIN:VEVENT
UID:9c7068d98619f2e4a53783ee421f1b7f
DTSTAMP:20260422T223013Z
SUMMARY:Tikkun Leyl Shavuot @ Beth Tzedec: Olam Hesed Yibaneh
DESCRIPTION:UJA Federation of Greater Toronto\nJewish Toronto Calendar\nhtt
 ps://jewishtoronto.com/calendar/tikkun-leyl-shavuot--beth-tzedec-olam-hese
 d-yibaneh-1620151457\n\nThe evening of Shavuot is traditionally spent lear
 ning until late into the night. In order for us to learn together as a com
 munity\, we will be holding our group learning in advance of the beginning
  of the holiday. \n\nIn keeping with Public Health restrictions Tikkun Ley
 l Shavuot celebrations will be offered virtually&mdash\;learning sessions 
 offered via Zoom and Services streamed to our website.\n\n6:30pm&mdash\;Ke
 ynote Address with David Zarnett: Helping Strangers: Why Do We Help People
  We Don&#039\;t...
DTSTART;TZID=America/Toronto:20210516T183000
DTEND;TZID=America/Toronto:20210516T223000
END:VEVENT
END:VCALENDAR
