BEGIN:VCALENDAR
PRODID:-//eluceo/ical//2.0/EN
VERSION:2.0
CALSCALE:GREGORIAN
BEGIN:VEVENT
UID:c2d79e5bcdb823447347ab3f26711eee
DTSTAMP:20260426T024206Z
SUMMARY:Tiferes Bais Yaakov - Golf Tournament
DESCRIPTION:UJA Federation of Greater Toronto\nJewish Toronto Calendar\nhtt
 ps://jewishtoronto.com/calendar/tiferes-bais-yaakov-golf-tournament-146713
 9735\n\nTiferes Bais Yaakov Golf Tournament\n\nContact: sarah@tiferesbais
 yaakov.com 
DTSTART;TZID=America/Toronto:20160927T070000
DTEND;TZID=America/Toronto:20160927T235900
END:VEVENT
END:VCALENDAR
