BEGIN:VCALENDAR
PRODID:-//eluceo/ical//2.0/EN
VERSION:2.0
CALSCALE:GREGORIAN
BEGIN:VEVENT
UID:67d0c85e93985c153911029db9075925
DTSTAMP:20260422T105149Z
SUMMARY:THZ School Open House & BBQ Meet 'N Greet 'N Eat
DESCRIPTION:UJA Federation of Greater Toronto\nJewish Toronto Calendar\nhtt
 ps://jewishtoronto.com/calendar/thz-school-open-house--bbq-meet-n-greet-n-
 eat-1755117056\n\nJoin us for a taste of our awesome school programs and c
 urriculum! Meet our teachers\, staff\, clergy\, and our new Shin Alma! The
 re'll be lots of excitement for the upcoming school year. Our THZ school i
 s open to all students from JK - Grade 10 looking for hands-on Jewish lear
 ning in a warm\, welcoming community.\n\nIf you're a new student\, come ma
 ke new friends! And if you're a returning student\, bring your friends (an
 d ask us about our referral discount)!
DTSTART;TZID=America/Toronto:20250907T123000
DTEND;TZID=America/Toronto:20250907T143000
END:VEVENT
END:VCALENDAR
