BEGIN:VCALENDAR
PRODID:-//eluceo/ical//2.0/EN
VERSION:2.0
CALSCALE:GREGORIAN
BEGIN:VEVENT
UID:9071aba4f1492286f63cd2bb45b93a2b
DTSTAMP:20260422T010133Z
SUMMARY:THZ Daytime Speaker Series: Bernie Farber
DESCRIPTION:UJA Federation of Greater Toronto\nJewish Toronto Calendar\nhtt
 ps://jewishtoronto.com/calendar/thz-daytime-speaker-series-bernie-farber-1
 471534125\n\nBernie Farber of Mosaic Institute - 'Conflict\, Peace and Rec
 onciliation. Where are we and where are we going?\nBring your lunch for 12
  and presentation starts at 12:30.\nMembers: $3.00/Guests $6.00
DTSTART;TZID=America/Toronto:20161101T120000
DTEND;TZID=America/Toronto:20161101T140000
END:VEVENT
END:VCALENDAR
