BEGIN:VCALENDAR
PRODID:-//eluceo/ical//2.0/EN
VERSION:2.0
CALSCALE:GREGORIAN
BEGIN:VEVENT
UID:31f0343c02bb9d8b5b5a0b00fd0a8c69
DTSTAMP:20260422T183052Z
SUMMARY:THZ Adult Education: From Couscous to Kasha
DESCRIPTION:UJA Federation of Greater Toronto\nJewish Toronto Calendar\nhtt
 ps://jewishtoronto.com/calendar/thz-adult-education-from-couscous-to-kasha
 -1453135831\n\nDr. Seymour Epstein will discuss his work with the Joint Di
 stribution Committee which took him around the world including North Afric
 a\, France and Siberia.\nAdmission: THZ members $3.00\; Community members 
 $6.00
DTSTART;TZID=America/Toronto:20160214T100000
DTEND;TZID=America/Toronto:20160214T120000
END:VEVENT
END:VCALENDAR
