BEGIN:VCALENDAR
PRODID:-//eluceo/ical//2.0/EN
VERSION:2.0
CALSCALE:GREGORIAN
BEGIN:VEVENT
UID:81615ff8112da362f7f5b18161e4e8a3
DTSTAMP:20260421T113848Z
SUMMARY:THZ Adult Education: 'An introduction to my South Africa'
DESCRIPTION:UJA Federation of Greater Toronto\nJewish Toronto Calendar\nhtt
 ps://jewishtoronto.com/calendar/thz-adult-education-an-introduction-to-my-
 south-africa-1492530055\n\nJoin us after 8:00 PM services when David Teege
 r\, past President of THZ will introduce you to his South Africa and what 
 the country has to offer and for you 'landsman' out there\, it should be a
  little trip down memory lane.
DTSTART;TZID=America/Toronto:20170428T200000
DTEND;TZID=America/Toronto:20170428T210000
END:VEVENT
END:VCALENDAR
