BEGIN:VCALENDAR
PRODID:-//eluceo/ical//2.0/EN
VERSION:2.0
CALSCALE:GREGORIAN
BEGIN:VEVENT
UID:e32f2bbfa5f3dae69a08e2d10869829a
DTSTAMP:20260419T165042Z
SUMMARY:Thursday Afternoon Movies with Larry Anklewicz - Dough
DESCRIPTION:UJA Federation of Greater Toronto\nJewish Toronto Calendar\nhtt
 ps://jewishtoronto.com/calendar/thursday-afternoon-movies-with-larry-ankle
 wicz---dough-1555606582\n\nA Temple Sinai Program: Thursday Afternoon Movi
 es with Larry Anklewicz - Dough\n(United Kingdom) 2014\, 95 minutes\nComed
 y\, about a Jewish baker in Britain struggling to keep his business alive\
 , who hires a Muslim refugee from Darfur as his new apprentice. Come and b
 ring your friends for a fun afternoon. Time: 1:30 p.m. Cost: $5. These mov
 ies are open to the public. Free parking and wheelchair accessible. For mo
 re information\, call the Temple Office at 416-487-4161 or email programs@
 templesina...
DTSTART;TZID=America/Toronto:20190606T133000
DTEND;TZID=America/Toronto:20190606T153000
END:VEVENT
END:VCALENDAR
