BEGIN:VCALENDAR
PRODID:-//eluceo/ical//2.0/EN
VERSION:2.0
CALSCALE:GREGORIAN
BEGIN:VEVENT
UID:33259d010824deca69813544efdb7a0e
DTSTAMP:20260423T162501Z
SUMMARY:U40 Throwback Party
DESCRIPTION:UJA Federation of Greater Toronto\nJewish Toronto Calendar\nhtt
 ps://jewishtoronto.com/calendar/throwback-party\n\n.\n\nUJA’s U40 Presen
 ts – Throwback Party!\n\n \n\nCome Celebrate the Summer!\n\nJoin us on 
 the Maison Mercer Rooftop Patio for a night of nostalgia and for a chanc
 e to learn about how you can make an impact on the Jewish community!   \
 n\nDate -  Thursday\, August 31\n\nTime -  8pm to Midnight\n\nLocation 
 – Maison Mercer Rooftop Patio (15 Mercer St.)\n\nCost - $25 (First 200 T
 ickets) $36 after that. - Tickets available here.\n\nFor more information 
 or questions\, please contact Mar...
DTSTART;TZID=America/Toronto:20170831T200000
DTEND;TZID=America/Toronto:20170831T235500
END:VEVENT
END:VCALENDAR
