BEGIN:VCALENDAR
PRODID:-//eluceo/ical//2.0/EN
VERSION:2.0
CALSCALE:GREGORIAN
BEGIN:VEVENT
UID:3d7568680897f66e20a19cd74b1e61db
DTSTAMP:20260423T183001Z
SUMMARY:Three Evenings of Great Jewish Ideas
DESCRIPTION:UJA Federation of Greater Toronto\nJewish Toronto Calendar\nhtt
 ps://jewishtoronto.com/calendar/three-evenings-of-great-jewish-ideas-16535
 95409\n\nPart one: Yeshayu Liebowitz\n\nPart two: Leon Wieseltier\n\nPart 
 three: Yehud Amichai
DTSTART;TZID=America/Toronto:20220607T190000
DTEND;TZID=America/Toronto:20220607T210000
END:VEVENT
END:VCALENDAR
