BEGIN:VCALENDAR
PRODID:-//eluceo/ical//2.0/EN
VERSION:2.0
CALSCALE:GREGORIAN
BEGIN:VEVENT
UID:626115c270a7b60777d84f509d0ad7d1
DTSTAMP:20260423T114438Z
SUMMARY:THM Grade  6  Educator  Summer  Professional  Development
DESCRIPTION:UJA Federation of Greater Toronto\nJewish Toronto Calendar\nhtt
 ps://jewishtoronto.com/calendar/thm-grade--6--educator--summer--profession
 al--development-1751304691\n\nThis session will empower you with ready-to-
 use lessons\, practical tools\, and trusted resources to introduce the Hol
 ocaust with sensitivity and impact. Explore real Canadian stories\, engage
  with interactive digital content\, and walk away knowing how to create me
 aningful\, age-appropriate learning experiences for your Grade 6 students.
DTSTART;TZID=America/Toronto:20250807T100000
DTEND;TZID=America/Toronto:20250807T140000
END:VEVENT
END:VCALENDAR
