BEGIN:VCALENDAR
PRODID:-//eluceo/ical//2.0/EN
VERSION:2.0
CALSCALE:GREGORIAN
BEGIN:VEVENT
UID:c5067829e6b261acf7b4bce5b6e860b9
DTSTAMP:20260422T104045Z
SUMMARY:Third Night Social Justice Seder: Journeys of Liberation
DESCRIPTION:UJA Federation of Greater Toronto\nJewish Toronto Calendar\nhtt
 ps://jewishtoronto.com/calendar/third-night-social-justice-seder-journeys-
 of-liberation-1457476050\n\nJoin us for a Community Seder presented by Ve'
 ahavta and Holy Blossom Temple: an inclusive evening of music\, storytelli
 ng and feasting in celebration of our collective freedom.
DTSTART;TZID=America/Toronto:20160424T173000
DTEND;TZID=America/Toronto:20160424T210000
END:VEVENT
END:VCALENDAR
