BEGIN:VCALENDAR
PRODID:-//eluceo/ical//2.0/EN
VERSION:2.0
CALSCALE:GREGORIAN
BEGIN:VEVENT
UID:fe6f57c6597145b192a7a98497c48e56
DTSTAMP:20260423T220534Z
SUMMARY:Third Annual Merkur Lecture: Activism Across the Ages
DESCRIPTION:UJA Federation of Greater Toronto\nJewish Toronto Calendar\nhtt
 ps://jewishtoronto.com/calendar/third-annual-merkur-lecture-activism-acros
 s-the-ages-1698257019\n\nHosted by Congregation Darchei Noam's Social Just
 ice Advocacy Committee\, with support from the Merkur family and Rabbi Tin
 a Grimberg\, the Merkur Lectures explores themes of Equity\, Civil Liberty
  and Social Justice\n\nThis year’s lecture on "Activism Across the Ages:
  Intergenerational Perspectives\," will be held on Sunday\, December 17 (i
 n person and on Zoom)\, and we are proud to be hosting three speakers repr
 esenting different stages of life.\n\nDebbie Field is a community activist
  and natio...
DTSTART;TZID=America/Toronto:20231217T193000
DTEND;TZID=America/Toronto:20231217T213000
END:VEVENT
END:VCALENDAR
