BEGIN:VCALENDAR
PRODID:-//eluceo/ical//2.0/EN
VERSION:2.0
CALSCALE:GREGORIAN
BEGIN:VEVENT
UID:52b4f31e85a27f578dd3e89b577fd76d
DTSTAMP:20260420T070521Z
SUMMARY:Third Annual Beth Tzedec Men’s Club Golf Classic
DESCRIPTION:UJA Federation of Greater Toronto\nJewish Toronto Calendar\nhtt
 ps://jewishtoronto.com/calendar/third-annual-beth-tzedec-mens-club-golf-cl
 assic\n\nThird Annual Beth Tzedec Men’s Club Golf Classic
DTSTART;TZID=America/Toronto:20150528T080000
DTEND;TZID=America/Toronto:20150528T170000
END:VEVENT
END:VCALENDAR
