BEGIN:VCALENDAR
PRODID:-//eluceo/ical//2.0/EN
VERSION:2.0
CALSCALE:GREGORIAN
BEGIN:VEVENT
UID:696a0378a742ab4906b671e1ac0cb62b
DTSTAMP:20260425T110624Z
SUMMARY:The Women of Bay Street event
DESCRIPTION:UJA Federation of Greater Toronto\nJewish Toronto Calendar\nhtt
 ps://jewishtoronto.com/calendar/the-women-of-bay-street-event\n\n \n 
DTSTART;TZID=America/Toronto:20141106T173000
DTEND;TZID=America/Toronto:20141106T193000
END:VEVENT
END:VCALENDAR
