BEGIN:VCALENDAR
PRODID:-//eluceo/ical//2.0/EN
VERSION:2.0
CALSCALE:GREGORIAN
BEGIN:VEVENT
UID:409dce29e51e5a5c159bdd148eed9c18
DTSTAMP:20260420T114945Z
SUMMARY:The Village Shul Golf Tournament at Copper Creek
DESCRIPTION:UJA Federation of Greater Toronto\nJewish Toronto Calendar\nhtt
 ps://jewishtoronto.com/calendar/the-village-shul-golf-tournament-at-copper
 -creek\n\nThe Village Shul Golf Tournament at Copper Creek\n\nWednesday\, 
 June 22nd  \n\nTime:  1:00 pm\n\nPlace:  11191 Hwy 27\, Kleinburg\, Ont
 ario L0J 1C0\n\nContact: Abi Samole\n\nTelephone:  416.785.1107\,  x 307
DTSTART;TZID=America/Toronto:20160622T130000
DTEND;TZID=America/Toronto:20160622T200000
END:VEVENT
END:VCALENDAR
