BEGIN:VCALENDAR
PRODID:-//eluceo/ical//2.0/EN
VERSION:2.0
CALSCALE:GREGORIAN
BEGIN:VEVENT
UID:74109ae975c4a83cc7efe9bd4f60006d
DTSTAMP:20260419T222025Z
SUMMARY:The U.S. Election: Biden\, Trump and the Future with Prof. Stephen 
 Berk
DESCRIPTION:UJA Federation of Greater Toronto\nJewish Toronto Calendar\nhtt
 ps://jewishtoronto.com/calendar/the-us-election-biden-trump-and-the-future
 -with-prof-stephen-berk-1600282179\n\nBeth Tzedec announces the first of t
 hree online lectures with Professor Stephen Berk\, the Henry and Sally Sch
 affer Professor of Holocaust and Jewish Studies at Union College\, New Yor
 k. Prof. Berk will give a timely talk on the upcoming U.S. elections and h
 ow the two men vying for the Presidency could impact the political\, socia
 l and international landscapes. In keeping with current Public Health and 
 physical distancing recommendations\, this program will be offered via Zoo
 m. Pre-registration...
DTSTART;TZID=America/Toronto:20201007T194500
DTEND;TZID=America/Toronto:20201007T210000
END:VEVENT
END:VCALENDAR
