BEGIN:VCALENDAR
PRODID:-//eluceo/ical//2.0/EN
VERSION:2.0
CALSCALE:GREGORIAN
BEGIN:VEVENT
UID:ca3846b758f484a26bfd2585abf266da
DTSTAMP:20260420T021909Z
SUMMARY:The Unknown Pages of Holocaust
DESCRIPTION:UJA Federation of Greater Toronto\nJewish Toronto Calendar\nhtt
 ps://jewishtoronto.com/calendar/the-unknown-pages-of-holocaust-1509460333\
 n\nVita Shtivelman founder of Et Cetera will speak about the Soviet Union 
 during the Second World War\, Babi Yar\, Drobitski Yar and the Holocaust. 
 She will share reflections of these tragedies as portrayed in arts and lit
 erature.\n\nPresented by Et Cetera Club.
DTSTART;TZID=America/Toronto:20171105T180000
DTEND;TZID=America/Toronto:20171105T200000
END:VEVENT
END:VCALENDAR
