BEGIN:VCALENDAR
PRODID:-//eluceo/ical//2.0/EN
VERSION:2.0
CALSCALE:GREGORIAN
BEGIN:VEVENT
UID:102c889dd5521062550a3ae18724fd1c
DTSTAMP:20260422T171231Z
SUMMARY:The Toronto Heschel School's Early Years Chanukkah Party
DESCRIPTION:UJA Federation of Greater Toronto\nJewish Toronto Calendar\nhtt
 ps://jewishtoronto.com/calendar/the-toronto-heschel-schools-early-years-ch
 anukkah-party-1635440836\n\nChanukkah party for toddlers through Grade 1 s
 tudents
DTSTART;TZID=America/Toronto:20211128T100000
DTEND;TZID=America/Toronto:20211128T110000
END:VEVENT
END:VCALENDAR
