BEGIN:VCALENDAR
PRODID:-//eluceo/ical//2.0/EN
VERSION:2.0
CALSCALE:GREGORIAN
BEGIN:VEVENT
UID:1e8a944fdbcb916c9271c9877ea8f705
DTSTAMP:20260426T021300Z
SUMMARY:The Toronto Heschel School Spring Open House
DESCRIPTION:UJA Federation of Greater Toronto\nJewish Toronto Calendar\nhtt
 ps://jewishtoronto.com/calendar/the-toronto-heschel-school-spring-open-hou
 se-1701119052\n\nParents considering Jewish day school for their children'
 s education will not want to miss this exploration of what makes Heschel s
 pecial! Learn about the school's philosophy and teaching methodologies\, h
 ear from an alumnus and school parent on why Heschel was right for their f
 amily\, meet our leadership team\, and see our spacious school and grounds
  in person. Please register at www.torontoheschel.org/admissions/prospecti
 ve-family-events by March 18\, 2024.
DTSTART;TZID=America/Toronto:20240320T090000
DTEND;TZID=America/Toronto:20240320T110000
END:VEVENT
END:VCALENDAR
